BEGIN:VCALENDAR
VERSION:2.0
PRODID:icalendar-ruby
CALSCALE:GREGORIAN
METHOD:PUBLISH
BEGIN:VEVENT
DTSTAMP:20260422T135211Z
UID:42-996523@mywfa.org
DTSTART:20261104T000000Z
DTEND:20261104T010000Z
CLASS:PUBLIC
CREATED:20260422T064645
DESCRIPTION:
LAST-MODIFIED:20260422T064645
LOCATION:Sanctuary
SUMMARY:Worship Practice
URL;VALUE=URI:https://mywfa.org/events/worship-practice/2026-11-03
END:VEVENT
END:VCALENDAR
