BEGIN:VCALENDAR
VERSION:2.0
PRODID:icalendar-ruby
CALSCALE:GREGORIAN
METHOD:PUBLISH
BEGIN:VEVENT
DTSTAMP:20260422T120442Z
UID:42-996522@mywfa.org
DTSTART:20261027T230000Z
DTEND:20261028T000000Z
CLASS:PUBLIC
CREATED:20260422T064645
DESCRIPTION:
LAST-MODIFIED:20260422T064645
LOCATION:Sanctuary
SUMMARY:Worship Practice
URL;VALUE=URI:https://mywfa.org/events/worship-practice/2026-10-27
END:VEVENT
END:VCALENDAR
