BEGIN:VCALENDAR
VERSION:2.0
PRODID:icalendar-ruby
CALSCALE:GREGORIAN
METHOD:PUBLISH
BEGIN:VEVENT
DTSTAMP:20260422T064307Z
UID:42-995602@mywfa.org
DTSTART:20261006T230000Z
DTEND:20261007T000000Z
CLASS:PUBLIC
CREATED:20260421T194328
DESCRIPTION:
LAST-MODIFIED:20260421T194328
LOCATION:Sanctuary
SUMMARY:Worship Practice
URL;VALUE=URI:https://mywfa.org/events/worship-practice/2026-10-06
END:VEVENT
END:VCALENDAR
