BEGIN:VCALENDAR
VERSION:2.0
PRODID:icalendar-ruby
CALSCALE:GREGORIAN
METHOD:PUBLISH
BEGIN:VEVENT
DTSTAMP:20260424T142640Z
UID:5-1006747@mywfa.org
DTSTART:20261011T150000Z
DTEND:20261011T160000Z
CLASS:PUBLIC
CREATED:20260424T064803
DESCRIPTION:Sunday Worship
LAST-MODIFIED:20260424T064803
LOCATION:
SUMMARY:Sunday School
URL;VALUE=URI:https://mywfa.org/events/sunday-school/2026-10-11
ATTACH;FILENAME=sunday-school-2.jpg;FMTTYPE=image/jpeg:https://dq5pwpg1q8ru
 0.cloudfront.net/2025/03/27/01/51/51/232a9a35-6e26-4803-8bfd-cf72cb2a5b9c/
 sunday-school-2.jpg
END:VEVENT
END:VCALENDAR
