BEGIN:VCALENDAR
VERSION:2.0
PRODID:icalendar-ruby
CALSCALE:GREGORIAN
METHOD:PUBLISH
BEGIN:VEVENT
DTSTAMP:20260423T203431Z
UID:11-1004372@mywfa.org
DTSTART:20261115T233000Z
DTEND:20261116T013000Z
CLASS:PUBLIC
CREATED:20260423T153208
DESCRIPTION:Connect Groups are at the heart of building relationships and f
 ostering community at WFA! Through food\, fellowship\, Bible study\, and p
 rayer\, these small groups provide a meaningful way to grow spiritually an
 d connect with others.
LAST-MODIFIED:20260423T153208
LOCATION:
SUMMARY:Connect Groups
URL;VALUE=URI:https://mywfa.org/events/connect-groups/2026-11-15
ATTACH;FILENAME=Connect-Groups-5x7-%281%29.png;FMTTYPE=image/png:https://dq
 5pwpg1q8ru0.cloudfront.net/2024/12/12/00/01/42/6c405cf7-28c5-4b5d-8dc4-b1c
 247743b8a/Connect-Groups-5x7-%25281%2529.png
END:VEVENT
END:VCALENDAR
